BEGIN:VCALENDAR
PRODID:-//rushensilverband.org.im//EN
VERSION:2.0
METHOD:PUBLISH
BEGIN:VEVENT
DTSTART;TZID=America/New_York:20251129T150000
DTEND;TZID=America/New_York:20251129T163000
URL:http://rushensilverband.org.im/new-calendar/28-nov-christmas-concert/
SUMMARY:Christmas Concert - Erin Arts Centre
END:VEVENT
END:VCALENDAR