BEGIN:VCALENDAR
PRODID:-//rushensilverband.org.im//EN
VERSION:2.0
METHOD:PUBLISH
BEGIN:VEVENT
DTSTART;TZID=America/New_York:20260224T194500
DTEND;TZID=America/New_York:20260224T210000
URL:http://rushensilverband.org.im/new-calendar/annual-general-meeting/
SUMMARY:Rushen Silver Band AGM 
END:VEVENT
END:VCALENDAR