BEGIN:VCALENDAR
PRODID:-//rushensilverband.org.im//EN
VERSION:2.0
METHOD:PUBLISH
BEGIN:VEVENT
DTSTART;TZID=America/New_York:20240129T200000
DTEND;TZID=America/New_York:20240129T211500
URL:http://rushensilverband.org.im/new-calendar/charity-fundraising-concert/
SUMMARY:Charity Fundraising Concert
END:VEVENT
END:VCALENDAR