BEGIN:VCALENDAR
PRODID:-//rushensilverband.org.im//EN
VERSION:2.0
METHOD:PUBLISH
BEGIN:VEVENT
DTSTART;TZID=America/New_York:20250928T140000
DTEND;TZID=America/New_York:20250928T153000
URL:http://rushensilverband.org.im/new-calendar/a-concert-to-celebrate-the-life-of-joyce-corlett-mbe/
SUMMARY:A Concert to Celebrate the Life of Joyce Corlett MBE
END:VEVENT
END:VCALENDAR