BEGIN:VCALENDAR
PRODID:-//rushensilverband.org.im//EN
VERSION:2.0
METHOD:PUBLISH
BEGIN:VEVENT
DTSTART;TZID=America/New_York:20240630T143000
DTEND;TZID=America/New_York:20240630T160000
URL:http://rushensilverband.org.im/new-calendar/tynwald-garden-party/
SUMMARY:Tynwald Garden Party
END:VEVENT
END:VCALENDAR